BEGIN:VCALENDAR
VERSION:2.0
PRODID:-//eventon.com NONSGML v1.0//EN
CALSCALE:GREGORIAN
METHOD:PUBLISH
BEGIN:VEVENT
UID:69e53e6fb1d42
DTSTAMP:20260419T204327Z
DTSTART:20250425T192800Z
DTEND:20250425T192800Z
LOCATION:高美濕地 台中市清水區美堤街
SUMMARY:乾潮時間
DESCRIPTION:乾潮時間\nhttps://gaomei.com.tw/events/%e4%b9%be%e6%bd%ae%e
 6%99%82%e9%96%93-223/
URL:https://gaomei.com.tw/events/%e4%b9%be%e6%bd%ae%e6%99%82%e9%96%93-223/
END:VEVENT
END:VCALENDAR