BEGIN:VCALENDAR
VERSION:2.0
PRODID:-//eventon.com NONSGML v1.0//EN
CALSCALE:GREGORIAN
METHOD:PUBLISH
BEGIN:VEVENT
UID:69e4d46113fd8
DTSTAMP:20260419T131057Z
DTSTART:20250607T002100Z
DTEND:20250607T002100Z
LOCATION:高美濕地 台中市清水區美堤街
SUMMARY:滿潮時間
DESCRIPTION:滿潮時間\nhttps://gaomei.com.tw/events/%e6%bb%bf%e6%bd%ae%e
 6%99%82%e9%96%93-304/
URL:https://gaomei.com.tw/events/%e6%bb%bf%e6%bd%ae%e6%99%82%e9%96%93-304/
END:VEVENT
END:VCALENDAR