BEGIN:VCALENDAR
VERSION:2.0
PRODID:-//eventon.com NONSGML v1.0//EN
CALSCALE:GREGORIAN
METHOD:PUBLISH
BEGIN:VEVENT
UID:69eb07a803ae5
DTSTAMP:20260424T060320Z
DTSTART:20251011T114400Z
DTEND:20251011T114400Z
LOCATION:高美濕地 台中市清水區美堤街
SUMMARY:乾潮時間
DESCRIPTION:乾潮時間\nhttps://gaomei.com.tw/events/%e4%b9%be%e6%bd%ae%e
 6%99%82%e9%96%93-549/
URL:https://gaomei.com.tw/events/%e4%b9%be%e6%bd%ae%e6%99%82%e9%96%93-549/
END:VEVENT
END:VCALENDAR