BEGIN:VCALENDAR
VERSION:2.0
PRODID:-//eventon.com NONSGML v1.0//EN
CALSCALE:GREGORIAN
METHOD:PUBLISH
BEGIN:VEVENT
UID:69e70b178f258
DTSTAMP:20260421T052855Z
DTSTART:20260303T221700Z
DTEND:20260303T221700Z
LOCATION:高美濕地 台中市清水區美堤街
SUMMARY:日出時間
DESCRIPTION:日出時間\nhttps://gaomei.com.tw/events/%e6%97%a5%e5%87%ba%e
 6%99%82%e9%96%93-428/
URL:https://gaomei.com.tw/events/%e6%97%a5%e5%87%ba%e6%99%82%e9%96%93-428/
END:VEVENT
END:VCALENDAR