BEGIN:VCALENDAR
VERSION:2.0
PRODID:-//eventon.com NONSGML v1.0//EN
CALSCALE:GREGORIAN
METHOD:PUBLISH
BEGIN:VEVENT
UID:69e4d5f572ec8
DTSTAMP:20260419T131741Z
DTSTART:20260218T095400Z
DTEND:20260218T095400Z
LOCATION:高美濕地 台中市清水區美堤街
SUMMARY:日落時間
DESCRIPTION:日落時間\nhttps://gaomei.com.tw/events/%e6%97%a5%e8%90%bd%e
 6%99%82%e9%96%93-414/
URL:https://gaomei.com.tw/events/%e6%97%a5%e8%90%bd%e6%99%82%e9%96%93-414/
END:VEVENT
END:VCALENDAR