BEGIN:VCALENDAR
VERSION:2.0
PRODID:-//eventon.com NONSGML v1.0//EN
BEGIN:VEVENT
UID:69e88eb9398d1
DTSTAMP:20260422T170249
DTSTART:20230825T213600Z
DTEND:20230825T213600Z
TZID:Asia/Taipei
LOCATION:高美濕地 台中市清水區美堤街
SUMMARY:日出時間
DESCRIPTION: 日出時間\nhttps://gaomei.com.tw/events/%e6%97%a5%e5%87%ba%e6%99%82%e9%96%93-238/
URL:https://gaomei.com.tw/events/%e6%97%a5%e5%87%ba%e6%99%82%e9%96%93-238/
END:VEVENT
END:VCALENDAR