BEGIN:VCALENDAR
VERSION:2.0
PRODID:-//eventon.com NONSGML v1.0//EN
BEGIN:VEVENT
UID:69e8e5cbca1e0
DTSTAMP:20260422T231419
DTSTART:20230916T100100Z
DTEND:20230916T100100Z
TZID:Asia/Taipei
LOCATION:高美濕地 台中市清水區美堤街
SUMMARY:日落時間
DESCRIPTION: 日落時間\nhttps://gaomei.com.tw/events/%e6%97%a5%e8%90%bd%e6%99%82%e9%96%93-259/
URL:https://gaomei.com.tw/events/%e6%97%a5%e8%90%bd%e6%99%82%e9%96%93-259/
END:VEVENT
END:VCALENDAR