BEGIN:VCALENDAR
VERSION:2.0
PRODID:-//eventon.com NONSGML v1.0//EN
BEGIN:VEVENT
UID:69e8f54d421c3
DTSTAMP:20260423T002029
DTSTART:20230106T144700Z
DTEND:20230106T144700Z
TZID:Asia/Taipei
LOCATION:高美濕地 台中市清水區美堤街
SUMMARY:滿潮時間
DESCRIPTION: 滿潮時間\nhttps://gaomei.com.tw/events/%e6%bb%bf%e6%bd%ae%e6%99%82%e9%96%93-12/
URL:https://gaomei.com.tw/events/%e6%bb%bf%e6%bd%ae%e6%99%82%e9%96%93-12/
END:VEVENT
END:VCALENDAR