BEGIN:VCALENDAR
VERSION:2.0
PRODID:-//eventon.com NONSGML v1.0//EN
BEGIN:VEVENT
UID:69e89afbb460f
DTSTAMP:20260422T175507
DTSTART:20230504T204100Z
DTEND:20230504T204100Z
TZID:Asia/Taipei
LOCATION:高美濕地 台中市清水區美堤街
SUMMARY:乾潮時間
DESCRIPTION: 乾潮時間\nhttps://gaomei.com.tw/events/%e4%b9%be%e6%bd%ae%e6%99%82%e9%96%93-241/
URL:https://gaomei.com.tw/events/%e4%b9%be%e6%bd%ae%e6%99%82%e9%96%93-241/
END:VEVENT
END:VCALENDAR