BEGIN:VCALENDAR
VERSION:2.0
PRODID:-//eventon.com NONSGML v1.0//EN
BEGIN:VEVENT
UID:69e92b074e53b
DTSTAMP:20260423T040943
DTSTART:20230909T044900Z
DTEND:20230909T044900Z
TZID:Asia/Taipei
LOCATION:高美濕地 台中市清水區美堤街
SUMMARY:乾潮時間
DESCRIPTION: 乾潮時間\nhttps://gaomei.com.tw/events/%e4%b9%be%e6%bd%ae%e6%99%82%e9%96%93-487/
URL:https://gaomei.com.tw/events/%e4%b9%be%e6%bd%ae%e6%99%82%e9%96%93-487/
END:VEVENT
END:VCALENDAR