BEGIN:VCALENDAR
VERSION:2.0
PRODID:-//eventon.com NONSGML v1.0//EN
BEGIN:VEVENT
UID:69e948c085ed9
DTSTAMP:20260423T061632
DTSTART:20231119T071400Z
DTEND:20231119T071400Z
TZID:Asia/Taipei
LOCATION:高美濕地 台中市清水區美堤街
SUMMARY:滿潮時間
DESCRIPTION: 滿潮時間\nhttps://gaomei.com.tw/events/%e6%bb%bf%e6%bd%ae%e6%99%82%e9%96%93-624/
URL:https://gaomei.com.tw/events/%e6%bb%bf%e6%bd%ae%e6%99%82%e9%96%93-624/
END:VEVENT
END:VCALENDAR