BEGIN:VCALENDAR
VERSION:2.0
PRODID:-//eventon.com NONSGML v1.0//EN
BEGIN:VEVENT
UID:69e91e7f59cfc
DTSTAMP:20260423T031615
DTSTART:20230123T054300Z
DTEND:20230123T093600Z
TZID:Asia/Taipei
LOCATION:高美濕地 台中市清水區美堤街
SUMMARY:木棧道開放時間
DESCRIPTION: 木棧道開放時間\nhttps://gaomei.com.tw/events/%e6%9c%a8%e6%a3%a7%e9%81%93%e9%96%8b%e6%94%be%e6%99%82%e9%96%93-38/
URL:https://gaomei.com.tw/events/%e6%9c%a8%e6%a3%a7%e9%81%93%e9%96%8b%e6%94%be%e6%99%82%e9%96%93-38/
END:VEVENT
END:VCALENDAR